BEGIN:VCALENDAR
VERSION:2.0
PRODID:-//hacksw/handcal//NONSGML v1.0//EN
BEGIN:VEVENT
DTSTAMP:20251208T180000Z
DTSTART:20251208T180000Z
DTEND:20251208T180000Z
LOCATION:Höft's Markthaus, Cuxhavener Straße 119, Buxtehude, 21614, Deutschland
SUMMARY:Mitgliederversammlung 2025
END:VEVENT
END:VCALENDAR
